BEGIN:VCALENDAR
VERSION:2.0
PRODID:-//Second Harvest of Coastal Georgia - ECPv6.15.20//NONSGML v1.0//EN
CALSCALE:GREGORIAN
METHOD:PUBLISH
X-ORIGINAL-URL:https://helpendhunger.org
X-WR-CALDESC:Events for Second Harvest of Coastal Georgia
REFRESH-INTERVAL;VALUE=DURATION:PT1H
X-Robots-Tag:noindex
X-PUBLISHED-TTL:PT1H
BEGIN:VTIMEZONE
TZID:America/New_York
BEGIN:DAYLIGHT
TZOFFSETFROM:-0500
TZOFFSETTO:-0400
TZNAME:EDT
DTSTART:20230312T070000
END:DAYLIGHT
BEGIN:STANDARD
TZOFFSETFROM:-0400
TZOFFSETTO:-0500
TZNAME:EST
DTSTART:20231105T060000
END:STANDARD
BEGIN:DAYLIGHT
TZOFFSETFROM:-0500
TZOFFSETTO:-0400
TZNAME:EDT
DTSTART:20240310T070000
END:DAYLIGHT
BEGIN:STANDARD
TZOFFSETFROM:-0400
TZOFFSETTO:-0500
TZNAME:EST
DTSTART:20241103T060000
END:STANDARD
BEGIN:DAYLIGHT
TZOFFSETFROM:-0500
TZOFFSETTO:-0400
TZNAME:EDT
DTSTART:20250309T070000
END:DAYLIGHT
BEGIN:STANDARD
TZOFFSETFROM:-0400
TZOFFSETTO:-0500
TZNAME:EST
DTSTART:20251102T060000
END:STANDARD
END:VTIMEZONE
BEGIN:VEVENT
DTSTART;VALUE=DATE:20240511
DTEND;VALUE=DATE:20240512
DTSTAMP:20260420T153111
CREATED:20240110T155333Z
LAST-MODIFIED:20240110T155333Z
UID:10000008-1715385600-1715471999@helpendhunger.org
SUMMARY:Letter Carriers' Food Drive
DESCRIPTION:Letter Carrier’s Food Drive the second Saturday in May\nPut your non-perishable donation in a bag by your mailbox\, and we’ll deliver it to a local food bank! \nSponsors: \n\nNational Association of Letter Carriers\nUnited States Postal Service\nNational Rural Letter Carriers’ Association\nUFCW\nUnited Way\nAFL-CIO\nCVS Health\nValpak\nVericast\nKellanova
URL:https://helpendhunger.org/event/letter-carriers-food-drive/
END:VEVENT
END:VCALENDAR