BEGIN:VCALENDAR
VERSION:2.0
PRODID:-//Second Harvest of Coastal Georgia - ECPv6.15.20//NONSGML v1.0//EN
CALSCALE:GREGORIAN
METHOD:PUBLISH
X-WR-CALNAME:Second Harvest of Coastal Georgia
X-ORIGINAL-URL:https://helpendhunger.org
X-WR-CALDESC:Events for Second Harvest of Coastal Georgia
REFRESH-INTERVAL;VALUE=DURATION:PT1H
X-Robots-Tag:noindex
X-PUBLISHED-TTL:PT1H
BEGIN:VTIMEZONE
TZID:America/New_York
BEGIN:DAYLIGHT
TZOFFSETFROM:-0500
TZOFFSETTO:-0400
TZNAME:EDT
DTSTART:20230312T070000
END:DAYLIGHT
BEGIN:STANDARD
TZOFFSETFROM:-0400
TZOFFSETTO:-0500
TZNAME:EST
DTSTART:20231105T060000
END:STANDARD
BEGIN:DAYLIGHT
TZOFFSETFROM:-0500
TZOFFSETTO:-0400
TZNAME:EDT
DTSTART:20240310T070000
END:DAYLIGHT
BEGIN:STANDARD
TZOFFSETFROM:-0400
TZOFFSETTO:-0500
TZNAME:EST
DTSTART:20241103T060000
END:STANDARD
BEGIN:DAYLIGHT
TZOFFSETFROM:-0500
TZOFFSETTO:-0400
TZNAME:EDT
DTSTART:20250309T070000
END:DAYLIGHT
BEGIN:STANDARD
TZOFFSETFROM:-0400
TZOFFSETTO:-0500
TZNAME:EST
DTSTART:20251102T060000
END:STANDARD
END:VTIMEZONE
BEGIN:VEVENT
DTSTART;VALUE=DATE:20240901
DTEND;VALUE=DATE:20241001
DTSTAMP:20260420T152826
CREATED:20240815T162105Z
LAST-MODIFIED:20240815T172442Z
UID:10000058-1725148800-1727740799@helpendhunger.org
SUMMARY:Hunger Action Month Food Drives - Click Here to Support!
DESCRIPTION:Join us in the fight against hunger this September! Throughout the month\, several of our community partners are hosting food drives to benefit Second Harvest of Coastal Georgia. Here’s how you can get involved: \n\nThe Baked Bear: Donate non-perishable food items and receive a FREE cookie as a thank you for your generosity!\nPeach Cobbler Factory: Bring in your food donations and enjoy coupons and discounts at both Peach Cobbler Factory locations.\nHoneySuckle Gelato: Participate in their food drive and know that a portion of the proceeds from their flavor of the month\, Cream Gelato\, will be donated to help us combat hunger.\n\nThis month is full of sweet deals that make a big difference—donate today and treat yourself!
URL:https://helpendhunger.org/event/the-baked-bear-food-drive/
CATEGORIES:Hunger Action Month
END:VEVENT
BEGIN:VEVENT
DTSTART;VALUE=DATE:20240910
DTEND;VALUE=DATE:20240911
DTSTAMP:20260420T152826
CREATED:20240815T155025Z
LAST-MODIFIED:20240815T155025Z
UID:10000054-1725926400-1726012799@helpendhunger.org
SUMMARY:Hunger Action Day
DESCRIPTION:Today is Hunger Action Day\, a powerful reminder that we all have a role in fighting hunger. This is our moment to come together and take action. Every choice you make—whether it’s donating\, advocating\, volunteering\, or raising awareness—brings us closer to ending hunger. Your actions today can create real change. Join us in this crucial mission by visiting https://helpendhunger.org/. Together\, we can make a difference.
URL:https://helpendhunger.org/event/hunger-action-day/
CATEGORIES:Hunger Action Month
END:VEVENT
END:VCALENDAR