BEGIN:VCALENDAR
VERSION:2.0
PRODID:-//Second Harvest of Coastal Georgia - ECPv6.15.20//NONSGML v1.0//EN
CALSCALE:GREGORIAN
METHOD:PUBLISH
X-ORIGINAL-URL:https://helpendhunger.org
X-WR-CALDESC:Events for Second Harvest of Coastal Georgia
REFRESH-INTERVAL;VALUE=DURATION:PT1H
X-Robots-Tag:noindex
X-PUBLISHED-TTL:PT1H
BEGIN:VTIMEZONE
TZID:America/New_York
BEGIN:DAYLIGHT
TZOFFSETFROM:-0500
TZOFFSETTO:-0400
TZNAME:EDT
DTSTART:20250309T070000
END:DAYLIGHT
BEGIN:STANDARD
TZOFFSETFROM:-0400
TZOFFSETTO:-0500
TZNAME:EST
DTSTART:20251102T060000
END:STANDARD
BEGIN:DAYLIGHT
TZOFFSETFROM:-0500
TZOFFSETTO:-0400
TZNAME:EDT
DTSTART:20260308T070000
END:DAYLIGHT
BEGIN:STANDARD
TZOFFSETFROM:-0400
TZOFFSETTO:-0500
TZNAME:EST
DTSTART:20261101T060000
END:STANDARD
BEGIN:DAYLIGHT
TZOFFSETFROM:-0500
TZOFFSETTO:-0400
TZNAME:EDT
DTSTART:20270314T070000
END:DAYLIGHT
BEGIN:STANDARD
TZOFFSETFROM:-0400
TZOFFSETTO:-0500
TZNAME:EST
DTSTART:20271107T060000
END:STANDARD
END:VTIMEZONE
BEGIN:VEVENT
DTSTART;TZID=America/New_York:20260309T103000
DTEND;TZID=America/New_York:20260309T123000
DTSTAMP:20260424T041748
CREATED:20260225T193717Z
LAST-MODIFIED:20260225T193717Z
UID:10000460-1773052200-1773059400@helpendhunger.org
SUMMARY:Mobile Food Pantry - Camden County
DESCRIPTION:
URL:https://helpendhunger.org/event/mobile-food-pantry-camden-county-12/
LOCATION:PSA Rec Center\, 1050 Wildcat Drive\, Kingsland\, GA\, 31548\, United States
CATEGORIES:Mobile Food Pantries
END:VEVENT
BEGIN:VEVENT
DTSTART;TZID=America/New_York:20260309T110000
DTEND;TZID=America/New_York:20260309T130000
DTSTAMP:20260424T041748
CREATED:20260225T193538Z
LAST-MODIFIED:20260225T193538Z
UID:10000459-1773054000-1773061200@helpendhunger.org
SUMMARY:Mobile Food Pantry - Jeff Davis County
DESCRIPTION:
URL:https://helpendhunger.org/event/mobile-food-pantry-jeff-davis-county-13/
LOCATION:Macedonia Church of God\, 22 W. Georgia Avenue\, Denton\, 31532\, United States
CATEGORIES:Mobile Food Pantries
END:VEVENT
BEGIN:VEVENT
DTSTART;TZID=America/New_York:20260310T100000
DTEND;TZID=America/New_York:20260310T120000
DTSTAMP:20260424T041748
CREATED:20260225T200906Z
LAST-MODIFIED:20260225T200906Z
UID:10000461-1773136800-1773144000@helpendhunger.org
SUMMARY:Mobile Food Pantry - Bryan County
DESCRIPTION:
URL:https://helpendhunger.org/event/mobile-food-pantry-bryan-county-6/
LOCATION:Pembroke Christian Church\, 116 W Bascon Streent\, Pembroke\, 31321\, United States
CATEGORIES:Mobile Food Pantries
END:VEVENT
BEGIN:VEVENT
DTSTART;TZID=America/New_York:20260318T100000
DTEND;TZID=America/New_York:20260318T120000
DTSTAMP:20260424T041748
CREATED:20260225T201034Z
LAST-MODIFIED:20260225T201034Z
UID:10000462-1773828000-1773835200@helpendhunger.org
SUMMARY:Mobile Food Pantry - Glynn County
DESCRIPTION:
URL:https://helpendhunger.org/event/mobile-food-pantry-glynn-county-15/
LOCATION:North Glynn Recreation Complex\, 622 Harry Driggers Boulevard\, Brunswick\, 31525\, United States
CATEGORIES:Mobile Food Pantries
END:VEVENT
BEGIN:VEVENT
DTSTART;TZID=America/New_York:20260321T090000
DTEND;TZID=America/New_York:20260321T120000
DTSTAMP:20260424T041748
CREATED:20260102T185518Z
LAST-MODIFIED:20260102T185518Z
UID:10000451-1774083600-1774094400@helpendhunger.org
SUMMARY:Brown Bag Saturday - Volunteer Opportunity
DESCRIPTION:Volunteers needed to pack food bags for our Brown Bag for the Elderly program. This program ensures that seniors in our community have enough food to last through the end of the month. \nBrown Bag Saturdays start promptly at 9 am.\nArrive by 8:45 am for sign-in and orientation. \nShift will last around 3 hours\, or until packing is completed. \nMandatory Safety Requirement: no sandals or open-toed shoes allowed. Dress appropriately to work in the warehouse. \nRegistration is required to participate. \nVolunteers of all ages are welcome\, but those under the age of 16 must be accompanied by an adult at all times. \nLearn more and register here \n 
URL:https://helpendhunger.org/event/brown-bag-saturday-volunteer-opportunity-23/
LOCATION:Second Harvest of Coastal Georgia – Savannah\, 1380 Chatham Parkway\, Savannah\, 31405\, United States
CATEGORIES:Brown Bag Saturdays
END:VEVENT
BEGIN:VEVENT
DTSTART;TZID=America/New_York:20260326T090000
DTEND;TZID=America/New_York:20260326T120000
DTSTAMP:20260424T041748
CREATED:20260327T201220Z
LAST-MODIFIED:20260327T201407Z
UID:10000470-1774515600-1774526400@helpendhunger.org
SUMMARY:MoGro - Mobile Grocery Store
DESCRIPTION:
URL:https://helpendhunger.org/event/mogro-mobile-grocery-store/
LOCATION:Stillwell Towers\, 5100 Waters Avenue\, Savannah\, 31404\, United States
CATEGORIES:MoGro Stop
END:VEVENT
BEGIN:VEVENT
DTSTART;TZID=America/New_York:20260326T120000
DTEND;TZID=America/New_York:20260326T140000
DTSTAMP:20260424T041748
CREATED:20260225T201243Z
LAST-MODIFIED:20260225T201333Z
UID:10000463-1774526400-1774533600@helpendhunger.org
SUMMARY:Mobile Food Pantry - Wayne County
DESCRIPTION:
URL:https://helpendhunger.org/event/mobile-food-pantry-wayne-county-5/
LOCATION:Sam Dryer Community Center\, 219 Florie Street\, Screven\, GA\, 31560\, United States
CATEGORIES:Mobile Food Pantries
END:VEVENT
BEGIN:VEVENT
DTSTART;TZID=America/New_York:20260327T090000
DTEND;TZID=America/New_York:20260327T120000
DTSTAMP:20260424T041748
CREATED:20260327T201622Z
LAST-MODIFIED:20260327T201622Z
UID:10000471-1774602000-1774612800@helpendhunger.org
SUMMARY:MoGro - Mobile Grocery Store
DESCRIPTION:
URL:https://helpendhunger.org/event/mogro-mobile-grocery-store-2/
LOCATION:Savannah Gardens – Mercy Housing\, 501 Pennsylvania Avenue\, Savannah\, 31404\, United States
CATEGORIES:MoGro Stop
END:VEVENT
BEGIN:VEVENT
DTSTART;TZID=America/New_York:20260328T080000
DTEND;TZID=America/New_York:20260328T110000
DTSTAMP:20260424T041748
CREATED:20260225T201458Z
LAST-MODIFIED:20260225T201458Z
UID:10000464-1774684800-1774695600@helpendhunger.org
SUMMARY:Mobile Food Pantry - Bulloch County
DESCRIPTION:
URL:https://helpendhunger.org/event/mobile-food-pantry-bulloch-county-21/
LOCATION:Statesboro High School\, 10 Coach Lee Hill Boulevard\, Statesboro\, GA\, 30458\, United States
CATEGORIES:Mobile Food Pantries
END:VEVENT
BEGIN:VEVENT
DTSTART;TZID=America/New_York:20260330T123000
DTEND;TZID=America/New_York:20260330T150000
DTSTAMP:20260424T041748
CREATED:20260327T202009Z
LAST-MODIFIED:20260327T202452Z
UID:10000472-1774873800-1774882800@helpendhunger.org
SUMMARY:MoGro - Mobile Grocery Store
DESCRIPTION:
URL:https://helpendhunger.org/event/mogro-mobile-grocery-store-3/
LOCATION:Resurrection of Our Lord Catholic Church\, 112 Fell Street\, Savannah\, GA\, 31415\, United States
CATEGORIES:MoGro Stop
END:VEVENT
BEGIN:VEVENT
DTSTART;TZID=America/New_York:20260331T100000
DTEND;TZID=America/New_York:20260331T120000
DTSTAMP:20260424T041748
CREATED:20260225T201602Z
LAST-MODIFIED:20260225T201602Z
UID:10000465-1774951200-1774958400@helpendhunger.org
SUMMARY:Mobile Food Pantry - Candler County
DESCRIPTION:
URL:https://helpendhunger.org/event/mobile-food-pantry-candler-county-10/
LOCATION:Former Elementary School\, 900-942 Lillian Street\, Metter\, 30439\, United States
CATEGORIES:Mobile Food Pantries
END:VEVENT
BEGIN:VEVENT
DTSTART;TZID=America/New_York:20260331T123000
DTEND;TZID=America/New_York:20260331T150000
DTSTAMP:20260424T041748
CREATED:20260327T203723Z
LAST-MODIFIED:20260327T203723Z
UID:10000473-1774960200-1774969200@helpendhunger.org
SUMMARY:MoGro - Mobile Grocery Store
DESCRIPTION:
URL:https://helpendhunger.org/event/mogro-mobile-grocery-store-4/
LOCATION:Transformation Center Church fka Jonesville Baptist Church\, 5201 Montgomery Street\, Savannah\, GA\, 31405\, United States
CATEGORIES:MoGro Stop
END:VEVENT
END:VCALENDAR